BEGIN:VCALENDAR
VERSION:2.0
PRODID:-//ChamberMaster//Event Calendar 2.0//EN
METHOD:PUBLISH
X-PUBLISHED-TTL:P3D
REFRESH-INTERVAL:P3D
CALSCALE:GREGORIAN
BEGIN:VEVENT
DTSTART:20250918T160000Z
DTEND:20250918T170000Z
X-MICROSOFT-CDO-ALLDAYEVENT:FALSE
SUMMARY:Breakup with Burnout: 3 Keys to Rewire Your Leadership for Sustainable Success
DESCRIPTION:You've been working harder\, saying yes to everything\, and hoping the next season will finally feel lighter. But the truth is\, burnout doesn't get better on its own. That's why I created this free masterclass: Breakup with Burnout: 3 Keys to Rewire Your Leadership for Sustainable Success. In just one hour\, you'll understand why the things you've tried to overcome burnout haven't worked\, discover what does\, and leave with a clear next step to start building a way of leading that restores your energy\, your clarity\, and your joy. This masterclass is for women who are ready to move into 2026 joyfully\, sustainably\, and authentically.
X-ALT-DESC;FMTTYPE=text/html:You&rsquo\;ve been working harder\, saying yes to everything\, and hoping the next season will finally feel lighter. But the truth is\, burnout doesn&rsquo\;t get better on its own. That&rsquo\;s why I created this free masterclass: <em>Breakup with Burnout: 3 Keys to Rewire Your Leadership for Sustainable Success.</em> In just one hour\, you&rsquo\;ll understand why the things you&rsquo\;ve tried to overcome burnout haven&rsquo\;t worked\, discover what does\, and leave with a clear next step to start building a way of leading that restores your energy\, your clarity\, and your joy. This masterclass is for women who are ready to move into 2026 joyfully\, sustainably\, and authentically.
LOCATION:Register here to receive the Zoom link to this free burnout recovery masterclass.
UID:e.492.14991
SEQUENCE:3
DTSTAMP:20260421T212732Z
URL:https://members.fredericksburgchamber.org/events/details/breakup-with-burnout-3-keys-to-rewire-your-leadership-for-sustainable-success-14991
END:VEVENT

END:VCALENDAR
