BEGIN:VCALENDAR
VERSION:2.0
PRODID:-//ChamberMaster//Event Calendar 2.0//EN
METHOD:PUBLISH
X-PUBLISHED-TTL:P3D
REFRESH-INTERVAL:P3D
CALSCALE:GREGORIAN
BEGIN:VEVENT
DTSTART:20240520T130000Z
DTEND:20240520T210000Z
X-MICROSOFT-CDO-ALLDAYEVENT:FALSE
SUMMARY:Bruce L. Davis Golf Tournament
DESCRIPTION:Join us at the Bruce L. Davis Golf Tournament on Monday\, May 20\, 2024. All golfers are welcome\, and all proceeds directly benefit Germanna Community College students.
X-ALT-DESC;FMTTYPE=text/html:<h2><span style="font-size:13px">Join us at the Bruce L. Davis Golf Tournament on Monday\, May 20\, 2024. All golfers are welcome\, and all proceeds directly benefit Germanna Community College students.</span></h2>\n
LOCATION:Fredericksburg Country Club 11031 Tidewater Trail\, Fredericksburg\, VA 22408
UID:e.492.13964
SEQUENCE:3
DTSTAMP:20260422T065801Z
URL:https://members.fredericksburgchamber.org/events/details/bruce-l-davis-golf-tournament-13964
END:VEVENT

END:VCALENDAR
