BEGIN:VCALENDAR
VERSION:2.0
PRODID:-//ChamberMaster//Event Calendar 2.0//EN
METHOD:PUBLISH
X-PUBLISHED-TTL:P3D
REFRESH-INTERVAL:P3D
CALSCALE:GREGORIAN
BEGIN:VEVENT
DTSTART:20220821T160000Z
DTEND:20220821T190000Z
X-MICROSOFT-CDO-ALLDAYEVENT:FALSE
SUMMARY:Brunch For A Cause
DESCRIPTION:Sunday\, August 21st from 12pm-3pm. Grab your girlfriends\, put on your favorite Sunday dress\, and enjoy a delectable brunch while supporting a local non-profit. There will be charcuterie boxes and mimosa flights served at the brunch. Seating is limited so grab your tickets now! We will have music and a 50/50 raffle with the proceeds going to support FAHASS (Fredericksburg Area Health and Support Services) About FAHASS (Fredericksburg Area Health and Support Services) FAHASS serves the Fredericksburg and 11 counties across the Rappahannock region. They work to address specific health needs and disparities in care faced by historically marginalized and underserved populations including African-American\, Latin America and LGBTQ. They're a private nonprofit organization who's mission is positively impact individual and community health by providing a safe environment and education.
X-ALT-DESC;FMTTYPE=text/html:Sunday\, August 21st from 12pm-3pm. Grab your girlfriends\, put on your favorite Sunday dress\, and enjoy a delectable brunch while supporting a local non-profit. There will be charcuterie boxes and mimosa flights served at the brunch. Seating is limited so grab your tickets now! We will have music and a 50/50 raffle with the proceeds going to support FAHASS (Fredericksburg Area Health and Support Services) About FAHASS (Fredericksburg Area Health and Support Services) FAHASS serves the Fredericksburg and 11 counties across the Rappahannock region. They work to address specific health needs and disparities in care faced by historically marginalized and underserved populations including African-American\, Latin America and LGBTQ. They&rsquo\;re a private nonprofit organization who&rsquo\;s mission is positively impact individual and community health by providing a safe environment and education.
LOCATION:Haleys Honey Meadery FXBG
UID:e.492.13077
SEQUENCE:3
DTSTAMP:20260422T225426Z
URL:https://members.fredericksburgchamber.org/events/details/brunch-for-a-cause-08-21-2022-13077
END:VEVENT

END:VCALENDAR
