BEGIN:VCALENDAR
VERSION:2.0
PRODID:-//ChamberMaster//Event Calendar 2.0//EN
METHOD:PUBLISH
X-PUBLISHED-TTL:P3D
REFRESH-INTERVAL:P3D
CALSCALE:GREGORIAN
BEGIN:VEVENT
DTSTART:20220821T160000Z
DTEND:20220821T190000Z
X-MICROSOFT-CDO-ALLDAYEVENT:FALSE
SUMMARY:Brunch For a Cause
DESCRIPTION:Hometown FXBG is proud to be partnering up with Haley's Honey Meadery FXBG again to host Sunday Funday Brunch For A Cause to raise awareness and funds for female led local non profits in the area! Our next event is this Sunday August 21st to support FAHASS (Fredericksburg Area Health and Support Services). Tickets just $30 that include charcuterie boxes and a mimosa! Come out and enjoy some tunes\, learn more about this awesome non profit and help us raise funds with a 50/50 raffle. Tickets are limited so get them now before we sell out!!
X-ALT-DESC;FMTTYPE=text/html:Hometown FXBG is proud to be partnering up with Haley&#39\;s Honey Meadery FXBG again to host Sunday Funday Brunch For A Cause to raise awareness and funds for female led local non profits in the area! Our next event is this Sunday August 21st to support FAHASS (Fredericksburg Area Health and Support Services). Tickets just $30 that include charcuterie boxes and a mimosa! Come out and enjoy some tunes\, learn more about this awesome non profit and help us raise funds with a 50/50 raffle. Tickets are limited so get them now before we sell out!!
LOCATION:Haleys Honey Meadery FXBG
UID:e.492.13094
SEQUENCE:3
DTSTAMP:20260422T225505Z
URL:https://members.fredericksburgchamber.org/events/details/brunch-for-a-cause-08-21-2022-13094
END:VEVENT

END:VCALENDAR
