BEGIN:VCALENDAR
VERSION:2.0
PRODID:-//ChamberMaster//Event Calendar 2.0//EN
METHOD:PUBLISH
X-PUBLISHED-TTL:P3D
REFRESH-INTERVAL:P3D
CALSCALE:GREGORIAN
BEGIN:VEVENT
DTSTART;VALUE=DATE:20250714
DTEND;VALUE=DATE:20250719
TRANSP:TRANSPARENT
X-MICROSOFT-CDO-ALLDAYEVENT:TRUE
SUMMARY:Build Your Own AI Robot
DESCRIPTION:This camp introduces students to robotics\, artificial intelligence\, and programming through the creation of a custom smart robot. The camp's main objective is to provide hands-on experience in building and programming an AI-powered robot capable of interactive tasks. By the end of the camp\, students will:\n\n- Understand the basics of robotics hardware and sensors.\n\n- Learn to program using AI tools for speech recognition\, object detection\, or navigation.\n\n- Assemble a fully functional robot with microcontrollers and motors.\n\n- Explore real-world applications of AI in robotics and other industries.\n\n- Build confidence in integrating hardware and software.\n\n\n\nBreakfast\, Lunch\, Snack and Camp T-Shirt included.
X-ALT-DESC;FMTTYPE=text/html:<p>This camp introduces students to robotics\, artificial intelligence\, and programming through the creation of a custom smart robot. The camp&rsquo\;s main objective is to provide hands-on experience in building and programming an AI-powered robot capable of interactive tasks. By the end of the camp\, students will:</p>\n\n<p>- Understand the basics of robotics hardware and sensors.<br />\n- Learn to program using AI tools for speech recognition\, object detection\, or navigation.<br />\n- Assemble a fully functional robot with microcontrollers and motors.<br />\n- Explore real-world applications of AI in robotics and other industries.<br />\n- Build confidence in integrating hardware and software.<br />\n<br />\nBreakfast\, Lunch\, Snack and Camp T-Shirt included.</p>\n
LOCATION:1010 Corporate Drive\, Suite 103 Stafford\, VA 22554
UID:e.492.14927
SEQUENCE:3
DTSTAMP:20260422T021801Z
URL:https://members.fredericksburgchamber.org/events/details/build-your-own-ai-robot-14927
END:VEVENT

END:VCALENDAR
