BEGIN:VCALENDAR
VERSION:2.0
PRODID:-//ChamberMaster//Event Calendar 2.0//EN
METHOD:PUBLISH
X-PUBLISHED-TTL:P3D
REFRESH-INTERVAL:P3D
CALSCALE:GREGORIAN
BEGIN:VEVENT
DTSTART:20250925T140000Z
DTEND:20250925T153000Z
X-MICROSOFT-CDO-ALLDAYEVENT:FALSE
SUMMARY:Business Builder Workshop
DESCRIPTION:Join us for a dynamic workshop designed to help you grow your business in 2025. We'll walk you through the key strategies to boost your marketing and sales and share the essential actions and tools you need to set your business up for success.
X-ALT-DESC;FMTTYPE=text/html:Join us for a dynamic workshop designed to help you grow your business in 2025. We&#39\;ll walk you through the key strategies to boost your marketing and sales and share the essential actions and tools you need to set your business up for success.
LOCATION:
UID:e.492.15014
SEQUENCE:3
DTSTAMP:20260421T210753Z
URL:https://members.fredericksburgchamber.org/events/details/business-builder-workshop-15014
END:VEVENT

END:VCALENDAR
