BEGIN:VCALENDAR
VERSION:2.0
PRODID:-//ChamberMaster//Event Calendar 2.0//EN
METHOD:PUBLISH
X-PUBLISHED-TTL:P3D
REFRESH-INTERVAL:P3D
CALSCALE:GREGORIAN
BEGIN:VEVENT
DTSTART:20220907T160000Z
DTEND:20220907T173000Z
X-MICROSOFT-CDO-ALLDAYEVENT:FALSE
SUMMARY:Business Connect Lunch
DESCRIPTION:Save the Date!\n\n\n\nConnect with fellow Chamber members at our monthly luncheon.\n\nMore information to follow.
X-ALT-DESC;FMTTYPE=text/html:<div>&nbsp\;&nbsp\;<br />\nSave the Date!<br />\n<br />\nConnect with fellow Chamber members at our monthly luncheon.<br />\nMore information to follow.&nbsp\;</div>\n
LOCATION:Renato's 422 William St Fredericksburg\, VA 22401
UID:e.492.12323
SEQUENCE:3
DTSTAMP:20260422T193906Z
URL:https://members.fredericksburgchamber.org/events/details/business-connect-lunch-12323
END:VEVENT

END:VCALENDAR
