BEGIN:VCALENDAR
VERSION:2.0
PRODID:-//ChamberMaster//Event Calendar 2.0//EN
METHOD:PUBLISH
X-PUBLISHED-TTL:P3D
REFRESH-INTERVAL:P3D
CALSCALE:GREGORIAN
BEGIN:VEVENT
DTSTART:20230614T160000Z
DTEND:20230614T173000Z
X-MICROSOFT-CDO-ALLDAYEVENT:FALSE
SUMMARY:Business Connect Lunch
DESCRIPTION:Calling all Chamber Members!!!\n\nConnect with fellow Chamber members at our monthly luncheon.\n\nCome out\, have lunch\, network and learn: How to Master the Art of Public Speaking with Dr. Leah Schweitzer Director of the Speaking and Writing Center at Mary Washington University.
X-ALT-DESC;FMTTYPE=text/html:<div style="text-align: center\;">Calling all Chamber Members!!!<br />\nConnect with fellow Chamber members at our monthly luncheon.<br />\nCome out\, have lunch\, network and learn: How to Master the Art of Public Speaking with Dr. Leah Schweitzer Director of the Speaking and Writing Center at Mary Washington University.&nbsp\;</div>\n
LOCATION:Silver Collection Celebrate Virginia Parkway Fredericksburg\, VA 22406
UID:e.492.13196
SEQUENCE:3
DTSTAMP:20260422T053925Z
URL:https://members.fredericksburgchamber.org/events/details/business-connect-lunch-13196
END:VEVENT

END:VCALENDAR
