BEGIN:VCALENDAR
VERSION:2.0
PRODID:-//ChamberMaster//Event Calendar 2.0//EN
METHOD:PUBLISH
X-PUBLISHED-TTL:P3D
REFRESH-INTERVAL:P3D
CALSCALE:GREGORIAN
BEGIN:VEVENT
DTSTART:20240120T170000Z
DTEND:20240120T190000Z
X-MICROSOFT-CDO-ALLDAYEVENT:FALSE
SUMMARY:C&F Bank Cash Mob
DESCRIPTION:The first 25 customers between noon-2 on Saturday\, January 20th will receive $10 toward their purchase at Cool Cat Cupcakes courtesy of C&F Bank!
X-ALT-DESC;FMTTYPE=text/html:The first 25 customers between noon-2 on Saturday\, January 20th will receive $10 toward their purchase at Cool Cat Cupcakes courtesy of C&amp\;F Bank!
LOCATION:Cool Cat Cupcakes 1000 Charles St Fredericksburg\, VA 22401
UID:e.492.13816
SEQUENCE:3
DTSTAMP:20260422T005400Z
URL:https://members.fredericksburgchamber.org/events/details/c-f-bank-cash-mob-01-20-2024-13816
END:VEVENT

END:VCALENDAR
