BEGIN:VCALENDAR
VERSION:2.0
PRODID:-//ChamberMaster//Event Calendar 2.0//EN
METHOD:PUBLISH
X-PUBLISHED-TTL:P3D
REFRESH-INTERVAL:P3D
CALSCALE:GREGORIAN
BEGIN:VEVENT
DTSTART:20230622T150000Z
DTEND:20230622T170000Z
X-MICROSOFT-CDO-ALLDAYEVENT:FALSE
SUMMARY:C&F Bank Cash Mob
DESCRIPTION:Join the King George Cash Mob crew for lunch and support local business in a beautiful setting on the water and delicious food! The first 25 customers will receive $10 towards their purchase!
X-ALT-DESC;FMTTYPE=text/html:Join the King George Cash Mob crew for lunch and support local business in a beautiful setting on the water and delicious food! The first 25 customers will receive $10 towards their purchase!
LOCATION:Machadoc Creek Marina & Cafe
UID:e.492.13598
SEQUENCE:3
DTSTAMP:20260422T071215Z
URL:https://members.fredericksburgchamber.org/events/details/c-f-bank-cash-mob-06-22-2023-13598
END:VEVENT

END:VCALENDAR
