BEGIN:VCALENDAR
VERSION:2.0
PRODID:-//ChamberMaster//Event Calendar 2.0//EN
METHOD:PUBLISH
X-PUBLISHED-TTL:P3D
REFRESH-INTERVAL:P3D
CALSCALE:GREGORIAN
BEGIN:VEVENT
DTSTART:20230415T150000Z
DTEND:20230415T170000Z
X-MICROSOFT-CDO-ALLDAYEVENT:FALSE
SUMMARY:C&F Bank Cash Mob
DESCRIPTION:Join us for delicious popcorn with over 40 flavors to choose from and support local business! The first 50 people will receive $5 towards their purchase. Cash Mobs are designed to bring support to and awareness to local businesses...because when we shop local\, our economy and community win every time!
X-ALT-DESC;FMTTYPE=text/html:Join us for delicious popcorn with over 40 flavors to choose from and support local business! The first 50 people will receive $5 towards their purchase. Cash Mobs are designed to bring support to and awareness to local businesses...because when we shop local\, our economy and community win every time!
LOCATION:Jus Pop'n 300 William St Fredericksburg
UID:e.492.13470
SEQUENCE:3
DTSTAMP:20260422T092007Z
URL:https://members.fredericksburgchamber.org/events/details/c-f-bank-cash-mob-13470
END:VEVENT

END:VCALENDAR
