BEGIN:VCALENDAR
VERSION:2.0
PRODID:-//ChamberMaster//Event Calendar 2.0//EN
METHOD:PUBLISH
X-PUBLISHED-TTL:P3D
REFRESH-INTERVAL:P3D
CALSCALE:GREGORIAN
BEGIN:VEVENT
DTSTART:20251120T160000Z
DTEND:20251120T180000Z
X-MICROSOFT-CDO-ALLDAYEVENT:FALSE
SUMMARY:C&F Bank Cash Mob at Tales & Tails Book Cafe
DESCRIPTION:C&F Bank is teaming up with Tales & Tails Book Cafe on 11/20/25 from 11am-1pm. The first 25 customers to mob with us will receive $10 toward their purchase! C&F Bank's Cash Mobs are designed to support local businesses...because when we shop local\, our community wins every time!
X-ALT-DESC;FMTTYPE=text/html:C&amp\;F Bank is teaming up with Tales &amp\; Tails Book Cafe on 11/20/25 from 11am-1pm. The first 25 customers to mob with us will receive $10 toward their purchase! C&amp\;F Bank&#39\;s Cash Mobs are designed to support local businesses...because when we shop local\, our community wins every time!
LOCATION:Tales & Tails Book Cafe 1010 Charles St Fredericksburg\, VA 22401
UID:e.492.15096
SEQUENCE:3
DTSTAMP:20260421T181122Z
URL:https://members.fredericksburgchamber.org/events/details/c-f-bank-cash-mob-at-tales-tails-book-cafe-15096
END:VEVENT

END:VCALENDAR
