BEGIN:VCALENDAR
VERSION:2.0
PRODID:-//ChamberMaster//Event Calendar 2.0//EN
METHOD:PUBLISH
X-PUBLISHED-TTL:P3D
REFRESH-INTERVAL:P3D
CALSCALE:GREGORIAN
BEGIN:VEVENT
DTSTART:20230629T150000Z
DTEND:20230629T170000Z
X-MICROSOFT-CDO-ALLDAYEVENT:FALSE
SUMMARY:C&F Bank Shred It Event
DESCRIPTION:Free community shredding event. Limit 3 boxes/bags per person.
X-ALT-DESC;FMTTYPE=text/html:Free community shredding event. Limit 3 boxes/bags per person.
LOCATION:C&F Bank Stafford Branch - 175 Kings Hwy Fredericksburg\, VA 22405
UID:e.492.13581
SEQUENCE:3
DTSTAMP:20260422T054356Z
URL:https://members.fredericksburgchamber.org/events/details/c-f-bank-shred-it-event-13581
END:VEVENT

END:VCALENDAR
