BEGIN:VCALENDAR
VERSION:2.0
PRODID:-//ChamberMaster//Event Calendar 2.0//EN
METHOD:PUBLISH
X-PUBLISHED-TTL:P3D
REFRESH-INTERVAL:P3D
CALSCALE:GREGORIAN
BEGIN:VEVENT
DTSTART:20230511T203000Z
DTEND:20230511T223000Z
X-MICROSOFT-CDO-ALLDAYEVENT:FALSE
SUMMARY:C&F Open House
DESCRIPTION:Come grow with us! All are invited to attend! Food and drinks will be provided and register to win some great prizes!
X-ALT-DESC;FMTTYPE=text/html:Come grow with us! All are invited to attend! Food and drinks will be provided and register to win some great prizes!
LOCATION:C&F Financial Center 402 William St Fredericksburg
UID:e.492.13507
SEQUENCE:3
DTSTAMP:20260422T065623Z
URL:https://members.fredericksburgchamber.org/events/details/c-f-open-house-13507
END:VEVENT

END:VCALENDAR
