BEGIN:VCALENDAR
VERSION:2.0
PRODID:-//ChamberMaster//Event Calendar 2.0//EN
METHOD:PUBLISH
X-PUBLISHED-TTL:P3D
REFRESH-INTERVAL:P3D
CALSCALE:GREGORIAN
BEGIN:VEVENT
DTSTART:20240321T150000Z
DTEND:20240321T170000Z
X-MICROSOFT-CDO-ALLDAYEVENT:FALSE
SUMMARY:C&F Shred Event
DESCRIPTION:Join us for a FREE shredding event!
X-ALT-DESC;FMTTYPE=text/html:Join us for a FREE shredding event!
LOCATION:C&F Bank King George 8065 Kings Hwy King George\, VA 22485
UID:e.492.13931
SEQUENCE:3
DTSTAMP:20260422T035411Z
URL:https://members.fredericksburgchamber.org/events/details/c-f-shred-event-13931
END:VEVENT

END:VCALENDAR
