BEGIN:VCALENDAR
VERSION:2.0
PRODID:-//ChamberMaster//Event Calendar 2.0//EN
METHOD:PUBLISH
X-PUBLISHED-TTL:P3D
REFRESH-INTERVAL:P3D
CALSCALE:GREGORIAN
BEGIN:VEVENT
DTSTART:20230615T160000Z
DTEND:20230615T170000Z
X-MICROSOFT-CDO-ALLDAYEVENT:FALSE
SUMMARY:Campus Tour – at Barbara J. Fried Center in Stafford
DESCRIPTION:Interested in getting started at Germanna? Join us for a campus tour at our Barbara J. Fried Center in Stafford.\n\nTour the center\, get your questions answered\, and learn about our pathways\, programs\, and all Germanna has to offer.\n\nPlease check-in at the front lobby - Room 115
X-ALT-DESC;FMTTYPE=text/html:<p>Interested in getting started at Germanna? Join us for a campus tour at our Barbara J. Fried Center in Stafford.</p>\n\n<p>Tour the center\, get your questions answered\, and learn about our pathways\, programs\, and all Germanna has to offer.</p>\n\n<p>Please check-in at the front lobby - Room 115</p>\n
LOCATION:Barbara J. Fried Center 124 Old Potomac Church Rd\, Stafford\, Virginia 22554
UID:e.492.13541
SEQUENCE:3
DTSTAMP:20260422T054750Z
URL:https://members.fredericksburgchamber.org/events/details/campus-tour-at-barbara-j-fried-center-in-stafford-06-15-2023-13541
END:VEVENT

END:VCALENDAR
