BEGIN:VCALENDAR
VERSION:2.0
PRODID:-//ChamberMaster//Event Calendar 2.0//EN
METHOD:PUBLISH
X-PUBLISHED-TTL:P3D
REFRESH-INTERVAL:P3D
CALSCALE:GREGORIAN
BEGIN:VEVENT
DTSTART:20230216T170000Z
DTEND:20230216T180000Z
X-MICROSOFT-CDO-ALLDAYEVENT:FALSE
SUMMARY:Campus Tour – at Barbara J. Fried Center in Stafford
DESCRIPTION:Interested in getting started at Germanna? Tour the center\, get your questions answered\, and learn about our pathways and\n\nprograms\, and all Germanna has to offer.\n\nBe prepared for hour long information session and center tour. Please report to the Barbara J. Fried Center and check-in at the\n\nfront lobby - Room 115.
X-ALT-DESC;FMTTYPE=text/html:Interested in getting started at Germanna? Tour the center\, get your questions answered\, and learn about our pathways and<br />\nprograms\, and all Germanna has to offer.<br />\nBe prepared for hour long information session and center tour. Please report to the Barbara J. Fried Center and check-in at the<br />\nfront lobby - Room 115.
LOCATION:Barbara J. Fried Center 124 Old Potomac Church Road Stafford\, VA 22554
UID:e.492.13394
SEQUENCE:3
DTSTAMP:20260422T115621Z
URL:https://members.fredericksburgchamber.org/events/details/campus-tour-at-barbara-j-fried-center-in-stafford-13394
END:VEVENT

END:VCALENDAR
