BEGIN:VCALENDAR
VERSION:2.0
PRODID:-//ChamberMaster//Event Calendar 2.0//EN
METHOD:PUBLISH
X-PUBLISHED-TTL:P3D
REFRESH-INTERVAL:P3D
CALSCALE:GREGORIAN
BEGIN:VEVENT
DTSTART:20230624T140000Z
DTEND:20230624T150000Z
X-MICROSOFT-CDO-ALLDAYEVENT:FALSE
SUMMARY:Campus Tour – at FredCAT Center
DESCRIPTION:Tour Germanna's Fredericksburg Center for Advanced Technology. The Center is a hub for many skilled trades programs and apprenticeships including Asphalt Technology\, Electrical\, Heavy Equipment Operator\, HVAC\, and Plumbing.\n\nLearn more about Germanna and our pathways to success as you visit the center. Discover why Germanna is so much more than a college.
X-ALT-DESC;FMTTYPE=text/html:<p>Tour Germanna&#39\;s Fredericksburg Center for Advanced Technology. The Center is a hub for many skilled trades programs and apprenticeships including Asphalt Technology\, Electrical\, Heavy Equipment Operator\, HVAC\, and Plumbing.</p>\n\n<p>Learn more about Germanna and our pathways to success as you visit the center. Discover why Germanna is so much more than a college.</p>\n
LOCATION:FredCAT Center 1325 Central Park Blvd\, Fredericksburg\, Virginia\, 22401
UID:e.492.13542
SEQUENCE:3
DTSTAMP:20260422T054216Z
URL:https://members.fredericksburgchamber.org/events/details/campus-tour-at-fredcat-center-13542
END:VEVENT

END:VCALENDAR
