BEGIN:VCALENDAR
VERSION:2.0
PRODID:-//ChamberMaster//Event Calendar 2.0//EN
METHOD:PUBLISH
X-PUBLISHED-TTL:P3D
REFRESH-INTERVAL:P3D
CALSCALE:GREGORIAN
BEGIN:VEVENT
DTSTART:20230413T160000Z
DTEND:20230413T170000Z
X-MICROSOFT-CDO-ALLDAYEVENT:FALSE
SUMMARY:Campus Tour – at Fredericksburg Area Campus
DESCRIPTION:Interested in getting started at Germanna? Tour the campus\, get your questions answered\, and learn about our pathways and\n\nprograms\, and all Germanna has to offer.\n\nBe prepared for a 30-minute information session and campus tour. Please report to the V. Earl Dickinson Building and check-in\n\nat the front lobby.
X-ALT-DESC;FMTTYPE=text/html:Interested in getting started at Germanna? Tour the campus\, get your questions answered\, and learn about our pathways and<br />\nprograms\, and all Germanna has to offer.<br />\nBe prepared for a 30-minute information session and campus tour. Please report to the V. Earl Dickinson Building and check-in<br />\nat the front lobby.
LOCATION:Fredericksburg Area Campus 10000 Germanna Point Drive Fredericksburg\, VA 22408
UID:e.492.13393
SEQUENCE:3
DTSTAMP:20260422T085224Z
URL:https://members.fredericksburgchamber.org/events/details/campus-tour-at-fredericksburg-area-campus-04-13-2023-13393
END:VEVENT

END:VCALENDAR
