BEGIN:VCALENDAR
VERSION:2.0
PRODID:-//ChamberMaster//Event Calendar 2.0//EN
METHOD:PUBLISH
X-PUBLISHED-TTL:P3D
REFRESH-INTERVAL:P3D
CALSCALE:GREGORIAN
BEGIN:VEVENT
DTSTART:20230608T160000Z
DTEND:20230608T170000Z
X-MICROSOFT-CDO-ALLDAYEVENT:FALSE
SUMMARY:Campus Tour – at Fredericksburg Area Campus
DESCRIPTION:Interested in getting started at Germanna? Join us for a campus tour at our Fredericksburg Area Campus.\n\nTour the center\, get your questions answered\, and learn about our pathways\, programs\, and all Germanna has to offer.\n\nPlease check-in at the front lobby of the main building.
X-ALT-DESC;FMTTYPE=text/html:<p>Interested in getting started at Germanna? Join us for a campus tour at our Fredericksburg Area Campus.</p>\n\n<p>Tour the center\, get your questions answered\, and learn about our pathways\, programs\, and all Germanna has to offer.</p>\n\n<p>Please check-in at the front lobby of the main building.&nbsp\;</p>\n
LOCATION:Fredericksburg Area Campus
UID:e.492.13540
SEQUENCE:3
DTSTAMP:20260422T054653Z
URL:https://members.fredericksburgchamber.org/events/details/campus-tour-at-fredericksburg-area-campus-06-08-2023-13540
END:VEVENT

END:VCALENDAR
