BEGIN:VCALENDAR
VERSION:2.0
PRODID:-//ChamberMaster//Event Calendar 2.0//EN
METHOD:PUBLISH
X-PUBLISHED-TTL:P3D
REFRESH-INTERVAL:P3D
CALSCALE:GREGORIAN
BEGIN:VEVENT
DTSTART:20230905T210000Z
DTEND:20230905T220000Z
X-MICROSOFT-CDO-ALLDAYEVENT:FALSE
SUMMARY:Campus Tour – at Fredericksburg Area Campus
DESCRIPTION:Learn more about Germanna Community College and our many pathways to success. Be prepared for a 30 minute information session and campus tour.\n\n \n\nPlease report to the V. Earl Dickinson Building and check-in at the front lobby. Room 212
X-ALT-DESC;FMTTYPE=text/html:<p>Learn more about Germanna Community College and our many pathways to success. Be prepared for a 30 minute information session and campus tour.</p>\n\n<p>&nbsp\;</p>\n\n<p>Please report to the V. Earl Dickinson Building and check-in at the front lobby.&nbsp\;Room 212</p>\n
LOCATION:10000 Germanna Point Dr\, Fredericksburg\, 22408
UID:e.492.13642
SEQUENCE:3
DTSTAMP:20260422T005416Z
URL:https://members.fredericksburgchamber.org/events/details/campus-tour-at-fredericksburg-area-campus-09-05-2023-13642
END:VEVENT

END:VCALENDAR
