BEGIN:VCALENDAR
VERSION:2.0
PRODID:-//ChamberMaster//Event Calendar 2.0//EN
METHOD:PUBLISH
X-PUBLISHED-TTL:P3D
REFRESH-INTERVAL:P3D
CALSCALE:GREGORIAN
BEGIN:VEVENT
DTSTART:20220811T160000Z
DTEND:20220811T170000Z
X-MICROSOFT-CDO-ALLDAYEVENT:FALSE
SUMMARY:Campus Tour – at Germanna Fredericksburg Area Campus
DESCRIPTION:Interested in getting started at Germanna? \n\n \n\nMonthly campus tours are offered at our Fredericksburg Area Campus\, Fredericksburg Center for Advanced Technology (FredCAT)\, and the Barbara J. Fried Center in Stafford. Tour the center\, get your questions answered\, and learn about our pathways\, programs\, and all Germanna has to offer. \n\n \n\nBook a tour today.
X-ALT-DESC;FMTTYPE=text/html:<span style="color:#333333">Interested in getting started at Germanna? </span><br />\n&nbsp\;<br />\n<span style="color:#333333">Monthly campus tours are offered at our Fredericksburg Area Campus\, Fredericksburg Center for Advanced Technology (FredCAT)\, and the Barbara J. Fried Center in Stafford. Tour the center\, get your questions answered\, and learn about our pathways\, programs\, and all Germanna has to offer. </span><br />\n&nbsp\;<br />\n<span style="color:#333333">Book a tour today. </span>
LOCATION:Germanna Community College's Fredericksburg Area Campus.
UID:e.492.13059
SEQUENCE:3
DTSTAMP:20260422T230028Z
URL:https://members.fredericksburgchamber.org/events/details/campus-tour-at-germanna-fredericksburg-area-campus-08-11-2022-13059
END:VEVENT

END:VCALENDAR
