BEGIN:VCALENDAR
VERSION:2.0
PRODID:-//ChamberMaster//Event Calendar 2.0//EN
METHOD:PUBLISH
X-PUBLISHED-TTL:P3D
REFRESH-INTERVAL:P3D
CALSCALE:GREGORIAN
BEGIN:VEVENT
DTSTART:20230921T210000Z
DTEND:20230921T220000Z
X-MICROSOFT-CDO-ALLDAYEVENT:FALSE
SUMMARY:Campus Tour – at Locust Grove Campus
DESCRIPTION:Learn more about Germanna Community College and our many pathways to success. Be prepared for a 30 minute information session and campus tour.\n\nPlease report to the French Slaughter Building (FSB) and check-in at the front lobby.
X-ALT-DESC;FMTTYPE=text/html:<p>Learn more about Germanna Community College and our many pathways to success. Be prepared for a 30 minute information session and campus tour.</p>\n\n<p>Please report to the French Slaughter Building (FSB)&nbsp\;and check-in at the front lobby.</p>\n
LOCATION:2130 Germanna Hwy\, Locust Grove\, VA 22508
UID:e.492.13648
SEQUENCE:3
DTSTAMP:20260422T005401Z
URL:https://members.fredericksburgchamber.org/events/details/campus-tour-at-locust-grove-campus-09-21-2023-13648
END:VEVENT

END:VCALENDAR
