BEGIN:VCALENDAR
VERSION:2.0
PRODID:-//ChamberMaster//Event Calendar 2.0//EN
METHOD:PUBLISH
X-PUBLISHED-TTL:P3D
REFRESH-INTERVAL:P3D
CALSCALE:GREGORIAN
BEGIN:VEVENT
DTSTART;VALUE=DATE:20210330
DTEND;VALUE=DATE:20210409
TRANSP:TRANSPARENT
X-MICROSOFT-CDO-ALLDAYEVENT:TRUE
SUMMARY:Canstruction®
DESCRIPTION:Canstruction  is a unique food drive where teams build structures out of canned food that later gets donated to the Fredericksburg Regional Food Bank!! Your team may register at https://www.fredfood.org/canstruction. Can't participate on a team? Please come out and support us with your vote! Voting will take place 2/15-2/17 at the Spotsylvania Towne Centre.
X-ALT-DESC;FMTTYPE=text/html:Canstruction&reg\; is a unique food drive where teams build structures out of canned food that later gets donated to the Fredericksburg Regional Food Bank!! Your team may register at https://www.fredfood.org/canstruction. Can&#39\;t participate on a team? Please come out and support us with your vote! Voting will take place 2/15-2/17 at the Spotsylvania Towne Centre.
LOCATION:Spotsylvania Towne Centre 137 Spotsylvania Mall Dr\, Fredericksburg\, VA 22407
UID:e.492.11131
SEQUENCE:3
DTSTAMP:20260421T165916Z
URL:https://members.fredericksburgchamber.org/events/details/canstruction-03-30-2021-11131
END:VEVENT

END:VCALENDAR
