BEGIN:VCALENDAR
VERSION:2.0
PRODID:-//ChamberMaster//Event Calendar 2.0//EN
METHOD:PUBLISH
X-PUBLISHED-TTL:P3D
REFRESH-INTERVAL:P3D
CALSCALE:GREGORIAN
BEGIN:VEVENT
DTSTART;VALUE=DATE:20210401
DTEND;VALUE=DATE:20210404
TRANSP:TRANSPARENT
X-MICROSOFT-CDO-ALLDAYEVENT:TRUE
SUMMARY:Canstruction®
DESCRIPTION:Canstruction  is a unique food drive where teams build structures out of canned food that later gets donated to the Fredericksburg Regional Food Bank!! Your team may register at https://www.fredfood.org/canstruction. Can't participate with a team? Please come out and support us with your vote! Voting will take place 3/30/2021-4/8/2021 at the Spotsylvania Towne Centre.
X-ALT-DESC;FMTTYPE=text/html:<span style="font-size:12px"><span style="background-color:rgb(255\, 255\, 255)\; color:rgb(32\, 33\, 36)\; font-family:roboto\,arial\,sans-serif">Canstruction&reg\; is a unique food drive where teams build structures out of canned food that later gets donated to the Fredericksburg Regional Food Bank!! Your team may register at </span><a href="https://www.fredfood.org/canstruction" rel="nofollow" style="color: rgb(102\, 17\, 204)\; pointer-events: none\; font-family: Roboto\, Arial\, sans-serif\; font-size: 16px\; font-variant-ligatures: none\; letter-spacing: 0.1px\; white-space: pre-wrap\; background-color: rgb(255\, 255\, 255)\;" target="_blank">https://www.fredfood.org/canstruction</a><span style="background-color:rgb(255\, 255\, 255)\; color:rgb(32\, 33\, 36)\; font-family:roboto\,arial\,sans-serif">. Can&#39\;t participate with a team? Please come out and support us with your vote! Voting will take place 3/30/2021-4/8/2021 at the Spotsylvania Towne Centre.</span></span>
LOCATION:137 Spotsylvania Mall Dr\, Fredericksburg\, VA 22407
UID:e.492.11185
SEQUENCE:3
DTSTAMP:20260422T102405Z
URL:https://members.fredericksburgchamber.org/events/details/canstruction-04-01-2021-11185
END:VEVENT

END:VCALENDAR
