BEGIN:VCALENDAR
VERSION:2.0
PRODID:-//ChamberMaster//Event Calendar 2.0//EN
METHOD:PUBLISH
X-PUBLISHED-TTL:P3D
REFRESH-INTERVAL:P3D
CALSCALE:GREGORIAN
BEGIN:VEVENT
DTSTART;VALUE=DATE:20230312
DTEND;VALUE=DATE:20230320
TRANSP:TRANSPARENT
X-MICROSOFT-CDO-ALLDAYEVENT:TRUE
SUMMARY:Canstruction® 2023
DESCRIPTION:The 11th Annual Canstruction  Event occurs between March 12- 19\, 2023\, with the generous support of our host site Spotsylvania Towne Centre. Canstruction  is an international charity competition where teams of five compete to design and build giant structures made entirely from cans of food. Last year\, this event generated enough support to provide 18\,600 meals for neighbors facing hunger across the Central Rappahannock River Region. The structures will be on display at the Spotsylvania Towne Centre from March 12-19\, and we encourage everyone to check them out and vote for your favorite!
X-ALT-DESC;FMTTYPE=text/html:The 11th Annual Canstruction&reg\; Event occurs between March 12- 19\, 2023\, with the generous support of our host site Spotsylvania Towne Centre. Canstruction&reg\; is an international charity competition where teams of five compete to design and build giant structures made entirely from cans of food. Last year\, this event generated enough support to provide 18\,600 meals for neighbors facing hunger across the Central Rappahannock River Region. The structures will be on display at the Spotsylvania Towne Centre from March 12-19\, and we encourage everyone to check them out and vote for your favorite!
LOCATION:Spotsylvania Towne Centre
UID:e.492.13130
SEQUENCE:3
DTSTAMP:20260422T101008Z
URL:https://members.fredericksburgchamber.org/events/details/canstruction-2023-13130
END:VEVENT

END:VCALENDAR
