BEGIN:VCALENDAR
VERSION:2.0
PRODID:-//ChamberMaster//Event Calendar 2.0//EN
METHOD:PUBLISH
X-PUBLISHED-TTL:P3D
REFRESH-INTERVAL:P3D
CALSCALE:GREGORIAN
BEGIN:VEVENT
DTSTART:20230617T140000Z
DTEND:20230617T180000Z
X-MICROSOFT-CDO-ALLDAYEVENT:FALSE
SUMMARY:Car Show to benefit the local Walk to End Alzheimer's
DESCRIPTION:Join Spring Arbor Senior Living and our local community as we raise money to support the local Walk to End Alzheimer's. Check out antique cars\, enjoy tacos from the Juan More Taco food truck\, and live music from Vince Borelli. You can also take part in a basket raffle\, with all proceeds going to the Alzheimer's Association.
X-ALT-DESC;FMTTYPE=text/html:Join Spring Arbor Senior Living and our local community as we raise money to support the local Walk to End Alzheimer&#39\;s. Check out antique cars\, enjoy tacos from the Juan More Taco food truck\, and live music from Vince Borelli. You can also take part in a basket raffle\, with all proceeds going to the Alzheimer&#39\;s Association.&nbsp\;
LOCATION:Spring Arbor Senior Living 5308 River Rd Fredericksburg\, VA 22407
UID:e.492.13595
SEQUENCE:3
DTSTAMP:20260422T054904Z
URL:https://members.fredericksburgchamber.org/events/details/car-show-to-benefit-the-local-walk-to-end-alzheimer-s-13595
END:VEVENT

END:VCALENDAR
