BEGIN:VCALENDAR
VERSION:2.0
PRODID:-//ChamberMaster//Event Calendar 2.0//EN
METHOD:PUBLISH
X-PUBLISHED-TTL:P3D
REFRESH-INTERVAL:P3D
CALSCALE:GREGORIAN
BEGIN:VEVENT
DTSTART:20240418T203000Z
DTEND:20240418T220000Z
X-MICROSOFT-CDO-ALLDAYEVENT:FALSE
SUMMARY:Cardinal Management Group\, INC. Grand Opening Ribbon Cutting
DESCRIPTION:Cardinal Management Group\, INC.\, a family owned business established in 1987\, is opening a new office in historic Fredericksburg\, VA. Cardinal manages award winning community associations and commercial properties in Virginia\, Maryland and South Florida. Their services include full service management\, financial only management\, and consulting & project management services. The grand opening celebration will include light hors d'oeuvres and door prizes. All are welcome!
X-ALT-DESC;FMTTYPE=text/html:<span style="font-size:12px"><span style="font-family:verdana"><big><span style="color:rgb(5\, 5\, 5)">Cardinal Management Group\, INC.\, a family owned business established in 1987\, is opening a new office in historic Fredericksburg\, VA.&nbsp\;</span>Cardinal manages award winning community associations and commercial properties in Virginia\, Maryland and South Florida. Their services include full service management\, financial only management\, and consulting &amp\; project management services. The grand opening celebration will include light hors d&#39\;oeuvres and door prizes. All are welcome!</big></span></span>
LOCATION:700 Princess Anne St. Fredericksburg\, VA 22401.
UID:e.492.13918
SEQUENCE:3
DTSTAMP:20260422T071107Z
URL:https://members.fredericksburgchamber.org/events/details/cardinal-management-group-inc-grand-opening-ribbon-cutting-13918
END:VEVENT

END:VCALENDAR
