BEGIN:VCALENDAR
VERSION:2.0
PRODID:-//ChamberMaster//Event Calendar 2.0//EN
METHOD:PUBLISH
X-PUBLISHED-TTL:P3D
REFRESH-INTERVAL:P3D
CALSCALE:GREGORIAN
BEGIN:VEVENT
DTSTART:20240515T170000Z
DTEND:20240515T190000Z
X-MICROSOFT-CDO-ALLDAYEVENT:FALSE
SUMMARY:Career and Internship Fair
DESCRIPTION:Explore full- and part-time job opportunities\, internships\, volunteer opportunities\, and more!\n\nCurrent offerings include industries such as healthcare\, computer and information technology\, STEM\, trades\, business and hospitality\, and education.\n\nThis event is open to the public.
X-ALT-DESC;FMTTYPE=text/html:<p>Explore full- and part-time job opportunities\, internships\, volunteer opportunities\, and more!</p>\n\n<p>Current offerings include industries such as healthcare\, computer and information technology\, STEM\, trades\, business and hospitality\, and education.</p>\n\n<p>This event is open to the public.</p>\n
LOCATION:Germanna Community College\, SP2\, Room 105 10000 Germanna Point Drive\, Fredericksburg\, VA\, 22408
UID:e.492.13947
SEQUENCE:3
DTSTAMP:20260422T070901Z
URL:https://members.fredericksburgchamber.org/events/details/career-and-internship-fair-05-15-2024-13947
END:VEVENT

END:VCALENDAR
