BEGIN:VCALENDAR
VERSION:2.0
PRODID:-//ChamberMaster//Event Calendar 2.0//EN
METHOD:PUBLISH
X-PUBLISHED-TTL:P3D
REFRESH-INTERVAL:P3D
CALSCALE:GREGORIAN
BEGIN:VEVENT
DTSTART:20240418T210000Z
DTEND:20240418T230000Z
X-MICROSOFT-CDO-ALLDAYEVENT:FALSE
SUMMARY:Causes That Matter to Her - Immersive ALICE Simulation
DESCRIPTION:The Women United Leadership Council invites you to an evening to participate in an immersive ALICE Simulation where you will step into ALICE's shoes. This experience bridges the gap from misconception to understanding and sensitizes community participants to the realities of a month in the life of ALICE. Thursday\, April 18\, 2024   5:00pm - 7:00pm   Fick Center   1301 Sam Perry Boulevard\, Fredericksburg\, VA 22401 $50 for Women United Members   $55 for Non-WU Members   Networking   Refreshments   Raffle Fundraiser Please register online early and no later than Noon on April 5\, 2024\, as we anticipate this event selling out fast prior to the RSVP date. Please provide any dietary restrictions or special accommodations to Rappahannock United Way at least ten days prior to the event.
X-ALT-DESC;FMTTYPE=text/html:The Women United Leadership Council invites you to an evening to participate in an immersive ALICE Simulation where you will step into ALICE&#39\;s shoes. This experience bridges the gap from misconception to understanding and sensitizes community participants to the realities of a month in the life of ALICE. Thursday\, April 18\, 2024 &bull\; 5:00pm - 7:00pm &bull\; Fick Center &bull\; 1301 Sam Perry Boulevard\, Fredericksburg\, VA 22401 $50 for Women United Members &bull\; $55 for Non-WU Members &bull\; Networking &bull\; Refreshments &bull\; Raffle Fundraiser Please register online early and no later than Noon on April 5\, 2024\, as we anticipate this event selling out fast prior to the RSVP date. Please provide any dietary restrictions or special accommodations to Rappahannock United Way at least ten days prior to the event.
LOCATION:Fick Center\, 1301 Sam Perry Blvd\, Fredericksburg\, VA 22401
UID:e.492.13938
SEQUENCE:3
DTSTAMP:20260422T053926Z
URL:https://members.fredericksburgchamber.org/events/details/causes-that-matter-to-her-immersive-alice-simulation-13938
END:VEVENT

END:VCALENDAR
