BEGIN:VCALENDAR
VERSION:2.0
PRODID:-//ChamberMaster//Event Calendar 2.0//EN
METHOD:PUBLISH
X-PUBLISHED-TTL:P3D
REFRESH-INTERVAL:P3D
CALSCALE:GREGORIAN
BEGIN:VEVENT
DTSTART:20250730T210000Z
DTEND:20250731T000000Z
X-MICROSOFT-CDO-ALLDAYEVENT:FALSE
SUMMARY:Celebrity Bartender benefitting Big Brothers Big Sisters
DESCRIPTION:A Toast to Mentorships!\n\nOrder up some drinks and small appetizers\, served by our special celebrity bartenders\, at River's End Speakeasy on July 30th (5pm - 8pm) and learn what it means to become a Big (mentor) to inspire youth to reach their full potential. Celebrity bartenders will be unveiled throughout the month on our MAIN Facebook page @bbbsfred! Check in to see if it's your friend\, family\, or colleague ready to shake\, stir\, and serve for potential\n\nGuest Bartender tips and 10% of sales support Big Brothers Big Sisters Greater Fredericksburg!\n\nStay tuned to https://www.facebook.com/bbbsfred to hear who our celebrity bartenders will be!
X-ALT-DESC;FMTTYPE=text/html:<div>A Toast to Mentorships!<br />\nOrder up some drinks and small appetizers\, served by our special celebrity bartenders\, at River&#39\;s End Speakeasy on July 30th (5pm - 8pm) and learn what it means to become a Big (mentor) to inspire youth to reach their full potential. Celebrity bartenders will be unveiled throughout the month on our MAIN Facebook page @bbbsfred! Check in to see if it&#39\;s your friend\, family\, or colleague ready to shake\, stir\, and serve for potential</div>\n\n<div>Guest Bartender tips and 10% of sales support Big Brothers Big Sisters Greater Fredericksburg!<br />\nStay tuned to&nbsp\;https://www.facebook.com/bbbsfred to hear who our celebrity bartenders will be!</div>\n
LOCATION:River's End Speakeasy 216/218 William Street Fredericksburg\, VA 22401
UID:e.492.14938
SEQUENCE:3
DTSTAMP:20260422T005215Z
URL:https://members.fredericksburgchamber.org/events/details/celebrity-bartender-benefitting-big-brothers-big-sisters-14938
END:VEVENT

END:VCALENDAR
