BEGIN:VCALENDAR
VERSION:2.0
PRODID:-//ChamberMaster//Event Calendar 2.0//EN
METHOD:PUBLISH
X-PUBLISHED-TTL:P3D
REFRESH-INTERVAL:P3D
CALSCALE:GREGORIAN
BEGIN:VEVENT
DTSTART:20231216T210000Z
DTEND:20231217T000000Z
X-MICROSOFT-CDO-ALLDAYEVENT:FALSE
SUMMARY:Central VA Horse Rescue Open House
DESCRIPTION:Join us for some holiday fun! Refreshments - Farm Tours - Meet our beautiful horses and more!
X-ALT-DESC;FMTTYPE=text/html:Join us for some holiday fun! Refreshments - Farm Tours - Meet our beautiful horses and more!
LOCATION:31262 Eagle Hill Trl\, Fredericksburg\, VA
UID:e.492.13787
SEQUENCE:3
DTSTAMP:20260422T010638Z
URL:https://members.fredericksburgchamber.org/events/details/central-va-horse-rescue-open-house-13787
END:VEVENT

END:VCALENDAR
