BEGIN:VCALENDAR
VERSION:2.0
PRODID:-//ChamberMaster//Event Calendar 2.0//EN
METHOD:PUBLISH
X-PUBLISHED-TTL:P3D
REFRESH-INTERVAL:P3D
CALSCALE:GREGORIAN
BEGIN:VEVENT
DTSTART:20221023T190000Z
DTEND:20221023T220000Z
X-MICROSOFT-CDO-ALLDAYEVENT:FALSE
SUMMARY:Central Virginia Horse Rescue Spaghetti Dinner
DESCRIPTION:Join the Central Virginia Horse Rescue volunteers on October 23rd for a Spaghetti Dinner!  Plates can be purchased for pick up and take home or enjoyed at the farm in the peaceful picnic area.\n\n\n\nAfter dinner\, check out the bake sale for desserts!
X-ALT-DESC;FMTTYPE=text/html:Join the Central Virginia Horse Rescue volunteers on October 23rd for a Spaghetti Dinner!&nbsp\; Plates can be purchased for pick up and take home or enjoyed at the farm in the peaceful picnic area.<br />\n<br />\nAfter dinner\, check out the bake sale for desserts!
LOCATION:Central Virginia Horse Rescue 31262 Eagle Hill Trl Fredericksburg\, VA 22407
UID:e.492.13134
SEQUENCE:3
DTSTAMP:20260422T181118Z
URL:https://members.fredericksburgchamber.org/events/details/central-virginia-horse-rescue-spaghetti-dinner-13134
END:VEVENT

END:VCALENDAR
