BEGIN:VCALENDAR
VERSION:2.0
PRODID:-//ChamberMaster//Event Calendar 2.0//EN
METHOD:PUBLISH
X-PUBLISHED-TTL:P3D
REFRESH-INTERVAL:P3D
CALSCALE:GREGORIAN
BEGIN:VEVENT
DTSTART:20240210T183000Z
DTEND:20240210T193000Z
X-MICROSOFT-CDO-ALLDAYEVENT:FALSE
SUMMARY:Changing the Landscape: New Wayside Panels in the City of Fredericksburg – Trolley Tour
DESCRIPTION:As part of larger citywide efforts to tell a more complete story of our community\, the FAM has partnered with the City of Fredericksburg to develop new wayside panels showcasing diverse histories. Dr. Gaila Sims\, Curator of African American History and Special Projects\, will lead a trolley tour at 1:30 p.m. to view the five new panels scattered throughout the city. These will include a panel dedicated to Mr. Johnny P. Johnson at the corner of William and Sophia Streets\, one on the Manahoac Indigenous Tribe near Fall Hill\, one honoring the Original Walker-Grant School on Gunnery Road\, one on Decoration Day\, the precursor to modern Memorial Day celebrations\, and finally\, the first wayside panel in Mayfield\, devoted to Dr. W.L. Harris. Community members will introduce participants to each new panel: Ms. Gaye Adegbalola on Mr. Johnny P. Johnson and the Walker-Grant School\, Dr. Brad Hatch on the Mannahoac\, Reverend Hashmel Turner on Decoration Day\, and Ms. Alexa McNeil on Dr. W.L. Harris. Participants will need to reserve seats. Tickets are free but there is limited availability. To reserve a seat\, visit Eventbrite.
X-ALT-DESC;FMTTYPE=text/html:As part of larger citywide efforts to tell a more complete story of our community\, the FAM has partnered with the City of Fredericksburg to develop new wayside panels showcasing diverse histories. Dr. Gaila Sims\, Curator of African American History and Special Projects\, will lead a trolley tour at 1:30 p.m. to view the five new panels scattered throughout the city. These will include a panel dedicated to Mr. Johnny P. Johnson at the corner of William and Sophia Streets\, one on the Manahoac Indigenous Tribe near Fall Hill\, one honoring the Original Walker-Grant School on Gunnery Road\, one on Decoration Day\, the precursor to modern Memorial Day celebrations\, and finally\, the first wayside panel in Mayfield\, devoted to Dr. W.L. Harris. Community members will introduce participants to each new panel: Ms. Gaye Adegbalola on Mr. Johnny P. Johnson and the Walker-Grant School\, Dr. Brad Hatch on the Mannahoac\, Reverend Hashmel Turner on Decoration Day\, and Ms. Alexa McNeil on Dr. W.L. Harris. Participants will need to reserve seats. Tickets are free but there is limited availability. To reserve a seat\, visit Eventbrite.
LOCATION:Fredericksburg Area Museum 907 Princess Anne St Fredericksburg\, VA 22401
UID:e.492.13827
SEQUENCE:3
DTSTAMP:20260422T025036Z
URL:https://members.fredericksburgchamber.org/events/details/changing-the-landscape-new-wayside-panels-in-the-city-of-fredericksburg-trolley-tour-13827
END:VEVENT

END:VCALENDAR
