BEGIN:VCALENDAR
VERSION:2.0
PRODID:-//ChamberMaster//Event Calendar 2.0//EN
METHOD:PUBLISH
X-PUBLISHED-TTL:P3D
REFRESH-INTERVAL:P3D
CALSCALE:GREGORIAN
BEGIN:VEVENT
DTSTART:20221012T140000Z
DTEND:20221012T220000Z
X-MICROSOFT-CDO-ALLDAYEVENT:FALSE
SUMMARY:Chart Your Future Expo
DESCRIPTION:Stafford County Public Schools (SCPS) invites you to participate in the Inaugural Chart Your Future Expo on Wednesday\, October 12\, 2022\, at the Fredericksburg Expo & Conference Center. The event will gather high school seniors from across the region in one location to chart their future after high school graduation. The event will feature content sessions led by industry experts and one-on-one interactions with colleges\, universities\, major employers\, and military branches.\n\nSCPS will host two opportunities for regional high school seniors to attend the Chart Your Future event. The morning session is offered exclusively to all SCPS seniors during the school day\, while an evening session\, open to all students across the region\, will take place from 2:00 p.m. to 6:00 p.m.\n\nSCPS strives to inspire and empower every student with meaningful experiences that will enhance their education and provide pathways to a fulfilling future career. Career and college readiness programs such as Chart Your Future are an important step in helping prepare students for their future in a tangible way by providing them with the tools\, access\, opportunities\, internships\, and pathways to many different opportunities after high school.
X-ALT-DESC;FMTTYPE=text/html:<p>Stafford County Public Schools (SCPS) invites you to participate in the Inaugural Chart Your Future Expo on Wednesday\, October 12\, 2022\, at the Fredericksburg Expo &amp\; Conference Center. The event will gather high school seniors from across the region in one location to chart their future after high school graduation. The event will feature content sessions led by industry experts and one-on-one interactions with colleges\, universities\, major employers\, and military branches.</p>\n\n<p>SCPS will host two opportunities for regional high school seniors to attend the Chart Your Future event. The morning session is offered exclusively to all SCPS seniors during the school day\, while an evening session\, open to all students across the region\, will take place from 2:00 p.m. to 6:00 p.m.</p>\n\n<p>SCPS strives to inspire and empower every student with meaningful experiences that will enhance their education and provide pathways to a fulfilling future career. Career and college readiness programs such as Chart Your Future are an important step in helping prepare students for their future in a tangible way by providing them with the tools\, access\, opportunities\, internships\, and pathways to many different opportunities after high school.&nbsp\;</p>\n
LOCATION:Fredericksburg Expo & Conference Center (2371 Carl D. Silver Pkwy\, Fredericksburg\, VA 22401)
UID:e.492.13112
SEQUENCE:3
DTSTAMP:20260422T175742Z
URL:https://members.fredericksburgchamber.org/events/details/chart-your-future-expo-13112
END:VEVENT

END:VCALENDAR
