BEGIN:VCALENDAR
VERSION:2.0
PRODID:-//ChamberMaster//Event Calendar 2.0//EN
METHOD:PUBLISH
X-PUBLISHED-TTL:P3D
REFRESH-INTERVAL:P3D
CALSCALE:GREGORIAN
BEGIN:VEVENT
DTSTART:20250719T230000Z
DTEND:20250720T010000Z
X-MICROSOFT-CDO-ALLDAYEVENT:FALSE
SUMMARY:City Vino - Comedy and Wine Pairing Night
DESCRIPTION:Saturday Night\, July 19th\, 2025. Door opens at 7:00 PM\, show starts at 7:30 PM. $30 per person. Get Tickets HERE Funny Man and beloved City Vino wine rep\, Jon Yeager is coming to City Vino to share jokes and wine. He is bringing with him comics that have played at DC Improv and have appeared on TV. Can't name drop\, you just must come see who it is. Included are four comics paired with four wines and a light snack. By the glass\, bottles sales\, and other food menu items for purchase.
X-ALT-DESC;FMTTYPE=text/html:Saturday Night\, July 19th\, 2025. Door opens at 7:00 PM\, show starts at 7:30 PM. $30 per person. Get Tickets HERE Funny Man and beloved City Vino wine rep\, Jon Yeager is coming to City Vino to share jokes and wine. He is bringing with him comics that have played at DC Improv and have appeared on TV. Can&#39\;t name drop\, you just must come see who it is. Included are four comics paired with four wines and a light snack. By the glass\, bottles sales\, and other food menu items for purchase.
LOCATION:City Vino 100 Hanover St. Fredericksburg\, VA 22401
UID:e.492.14924
SEQUENCE:3
DTSTAMP:20260422T005240Z
URL:https://members.fredericksburgchamber.org/events/details/city-vino-comedy-and-wine-pairing-night-14924
END:VEVENT

END:VCALENDAR
