BEGIN:VCALENDAR
VERSION:2.0
PRODID:-//ChamberMaster//Event Calendar 2.0//EN
METHOD:PUBLISH
X-PUBLISHED-TTL:P3D
REFRESH-INTERVAL:P3D
CALSCALE:GREGORIAN
BEGIN:VEVENT
DTSTART:20221230T000000Z
DTEND:20221230T020000Z
X-MICROSOFT-CDO-ALLDAYEVENT:FALSE
SUMMARY:City Vino's Sip & Learn Series: Sparking Wine Tasting
DESCRIPTION:Have you ever wondered about the differences between Moscato\, prosecco\, cava\, and champagne? Come taste a range of different sparkling wines to discover the amazing\, joyful\, and celebratory feelings they inspire. Especially for your New Year's toast.`
X-ALT-DESC;FMTTYPE=text/html:<span style="color:rgb(65\, 65\, 65)\; font-family:montserrat\,helvetica\,sans-serif\; font-size:14px">Have you ever wondered about the differences between Moscato\, prosecco\, cava\, and champagne? Come taste a range of different sparkling wines to discover the amazing\, joyful\, and celebratory feelings they inspire. Especially for your New Year&#39\;s toast.`</span>
LOCATION:Allstate Community Theater\, 810 Caroline St\, 4th Floor. Same building as City Vino
UID:e.492.13280
SEQUENCE:3
DTSTAMP:20260422T151649Z
URL:https://members.fredericksburgchamber.org/events/details/city-vino-s-sip-learn-series-sparking-wine-tasting-13280
END:VEVENT

END:VCALENDAR
