BEGIN:VCALENDAR
VERSION:2.0
PRODID:-//ChamberMaster//Event Calendar 2.0//EN
METHOD:PUBLISH
X-PUBLISHED-TTL:P3D
REFRESH-INTERVAL:P3D
CALSCALE:GREGORIAN
BEGIN:VEVENT
DTSTART:20231212T163000Z
DTEND:20231212T180000Z
X-MICROSOFT-CDO-ALLDAYEVENT:FALSE
SUMMARY:CNEW Silent Auction
DESCRIPTION:Join our Chamber's Network of Enterprising Women as they meet for their Annual Silent Auction. Proceeds from the auction will go to the selected 2023 non-profit\, Girls on the Run.\n\n \n\n\nThey will also be awarding the winner of the Laurie A. Wideman Enterprising Woman's Award. Award information coming soon.\n\n \nRegistration deadline is Monday\, December 4th COBD.\n\n \n\n \n\nEVENT AGENDA:\n\n11:30AM-12:15PM  VIEWING AND BIDDING\n\n12:00PM                  LUNCH\n\n12:30PM                  PRESENTATION OF LAURIE A. WIDEMAN AWARD\n\n12:45PM                  ITEM PICKUP\n\n\n\n\n\nAbout the Laurie A. Wideman Enterprising Woman's Award\n\nThe Laurie A. Wideman Enterprising Woman's Award is an award presented annually by the Fredericksburg Regional Chamber of Commerce to a member of the Chamber's Network of Enterprising Women (CNEW). This award recognizes a woman with an independent\, energetic spirit and readiness to act in business and in the community. She has a great passion for the quality of life in our region and leads with values of the highest level of integrity and honesty.\n\n \n\nThis award is named for Laurie A. Wideman\, an exceptional woman in the community who was truly an enterprising woman. Laurie worked tirelessly behind the scenes for the many difference causes that she believed in\, supported others in their endeavors\, and had a true passion for her community and its quality of life. She served on the Chamber's Board of Directors\, Leadership Advisory Board\, and chaired the monthly Stafford Roundtable. Laurie was a winner of the Chamber's Small Business of the Year Award and was involved in numerous Chamber committees including the Chamber's Network of Enterprising Women (CNEW)\, tourism\, and transportation. As active as she was with the Chamber\, Laurie also served on the Board of Directors for United Way\, was a former president of the Stafford Business Exchange\, and represented Stafford County on the Regional Tourism Task Force.\n\n \n\nThis award has been developed based on Laurie's personality\, her beliefs\, and her standards.\n\n \n\nPrevious Winners of the Laurie A Wideman Enterprising Woman's Award\n\n2022- Ginni Matern\n\n2021 - Tammy Reid\n\n2020 - Rebecca Church\n\n2019 - Stacy Horne\n\n2018 - Michelle Caldwell Thompson\n\n2017 - Martha Hutzel\n\n2016 - Stephanie Lyles\n\n2015 - Andrea McConnell\n\n2014 - Neda McGuire\n\n2013 - Dierdre Powell White\n\n2012 - Kathy Hoffman\n\n2011 - Lisa Williams\n\n2010 - Janel Donohue
X-ALT-DESC;FMTTYPE=text/html:<div style="text-align: center\;">Join our Chamber&#39\;s Network of Enterprising Women as they meet for their Annual Silent Auction. Proceeds from the auction will go to the selected 2023&nbsp\;non-profit\, Girls on the Run.<br />\n&nbsp\;</div>\n<br />\nThey will also be awarding the winner of the Laurie A. Wideman Enterprising Woman&#39\;s Award. <em>Award information coming soon.</em>\n\n<div>&nbsp\;</div>\n<strong>Registration deadline is Monday\, December 4th COBD.</strong><br />\n&nbsp\;<br />\n&nbsp\;<br />\n<strong><em>EVENT AGENDA:</em></strong><br />\n<strong>11:30AM-12:15PM&nbsp\; </strong>VIEWING AND BIDDING<br />\n<strong>12:00PM</strong>&nbsp\; &nbsp\; &nbsp\; &nbsp\; &nbsp\; &nbsp\; &nbsp\; &nbsp\; &nbsp\; LUNCH<br />\n<strong>12:30PM</strong>&nbsp\; &nbsp\; &nbsp\; &nbsp\; &nbsp\; &nbsp\; &nbsp\; &nbsp\; &nbsp\; PRESENTATION OF LAURIE A. WIDEMAN AWARD<br />\n<strong>12:45PM</strong>&nbsp\; &nbsp\; &nbsp\; &nbsp\; &nbsp\; &nbsp\; &nbsp\; &nbsp\; &nbsp\; ITEM PICKUP<br />\n<br />\n<br />\n<strong>About the Laurie A. Wideman Enterprising Woman&#39\;s Award</strong><br />\nThe Laurie A. Wideman Enterprising Woman&#39\;s Award is an award presented annually by the Fredericksburg Regional Chamber of Commerce to a member of the Chamber&#39\;s Network of Enterprising Women (CNEW). This award recognizes a woman with an independent\, energetic spirit and readiness to act in business and in the community. She has a great passion for the quality of life in our region and leads with values of the highest level of integrity and honesty.<br />\n&nbsp\;<br />\nThis award is named for Laurie A. Wideman\, an exceptional woman in the community who was truly an enterprising woman. Laurie worked tirelessly behind the scenes for the many difference causes that she believed in\, supported others in their endeavors\, and had a true passion for her community and its quality of life. She served on the Chamber&#39\;s Board of Directors\, Leadership Advisory Board\, and chaired the monthly Stafford Roundtable. Laurie was a winner of the Chamber&#39\;s Small Business of the Year Award and was involved in numerous Chamber committees including the Chamber&#39\;s Network of Enterprising Women (CNEW)\, tourism\, and transportation. As active as she was with the Chamber\, Laurie also served on the Board of Directors for United Way\, was a former president of the Stafford Business Exchange\, and represented Stafford County on the Regional Tourism Task Force.<br />\n&nbsp\;<br />\nThis award has been developed based on Laurie&#39\;s personality\, her beliefs\, and her standards.<br />\n&nbsp\;<br />\n<strong>Previous Winners of the Laurie A Wideman Enterprising Woman&#39\;s Award</strong><br />\n2022- Ginni Matern<br />\n2021 - Tammy Reid<br />\n2020 - Rebecca Church<br />\n2019 - Stacy Horne<br />\n2018 - Michelle Caldwell Thompson<br />\n2017 - Martha Hutzel<br />\n2016 - Stephanie Lyles<br />\n2015 - Andrea McConnell<br />\n2014 - Neda McGuire<br />\n2013 - Dierdre Powell White<br />\n2012 - Kathy Hoffman<br />\n2011 - Lisa Williams<br />\n2010 - Janel Donohue\n<div style="line-height:105%\;">&nbsp\;</div>\n
LOCATION:Stevenson Ridge 6901 Meeting St. Spotsylvania\, Virginia 22553
UID:e.492.13367
SEQUENCE:3
DTSTAMP:20260421T232318Z
URL:https://members.fredericksburgchamber.org/events/details/cnew-silent-auction-13367
END:VEVENT

END:VCALENDAR
