BEGIN:VCALENDAR
VERSION:2.0
PRODID:-//ChamberMaster//Event Calendar 2.0//EN
METHOD:PUBLISH
X-PUBLISHED-TTL:P3D
REFRESH-INTERVAL:P3D
CALSCALE:GREGORIAN
BEGIN:VEVENT
DTSTART:20231114T103000Z
DTEND:20231114T103000Z
X-MICROSOFT-CDO-ALLDAYEVENT:FALSE
SUMMARY:Cocktails for a Cause
DESCRIPTION:Join us at the Heist in historic downtown Bowling Green for a whiskey cocktail fundraiser to benefit the Caroline Family YMCA. Attendees will enjoy stopping at a variety of whiskey cocktail stations for a tasting and take-home recipe card\, enjoy a selection of hors d'oeuvres\, and learn about the impact programs at the Caroline Family YMCA.
X-ALT-DESC;FMTTYPE=text/html:<div>\n<div style="margin-left:23.2344px\; margin-right:23.2344px">\n<p>Join us at the Heist in historic downtown Bowling Green for a whiskey cocktail fundraiser to benefit the Caroline Family YMCA. Attendees will enjoy stopping at a variety of whiskey cocktail stations for a tasting and take-home recipe card\, enjoy a selection of hors d&rsquo\;oeuvres\, and learn about the impact programs at the Caroline Family YMCA.<br />\n<br />\n&nbsp\;</p>\n</div>\n</div>\n\n<div>\n<div style="margin-left:23.2344px\; margin-right:23.2344px">\n<p>&nbsp\;</p>\n\n<p>&nbsp\;</p>\n</div>\n</div>\n
LOCATION:THE HEIST 102 N Main Street Bowling Green\, VA 22427
UID:e.492.13775
SEQUENCE:3
DTSTAMP:20260421T232609Z
URL:https://members.fredericksburgchamber.org/events/details/cocktails-for-a-cause-13775
END:VEVENT

END:VCALENDAR
