BEGIN:VCALENDAR
VERSION:2.0
PRODID:-//ChamberMaster//Event Calendar 2.0//EN
METHOD:PUBLISH
X-PUBLISHED-TTL:P3D
REFRESH-INTERVAL:P3D
CALSCALE:GREGORIAN
BEGIN:VEVENT
DTSTART:20221108T130000Z
DTEND:20221108T140000Z
X-MICROSOFT-CDO-ALLDAYEVENT:FALSE
SUMMARY:Coffee Talk: UMW Women’s Leadership Colloquium
DESCRIPTION:This event takes place monthly\, with themed discussions led by local leaders\, and all are welcome. Please join us in person! November's Coffee Talk will be led by Martha Hutzel\, Library Director\, Central Rappahannock Regional Library\, discussing Post-Colloquium Book Discussion: Embrace the Work\, Love Your Career: A Guided Workbook for Realizing Your Career Goals with Clarity\, Intention\, and Confidence. Networking is the best thing you can do for your own professional development! Share\, learn and grow from other professionals in the Fredericksburg area.
X-ALT-DESC;FMTTYPE=text/html:This event takes place monthly\, with themed discussions led by local leaders\, and all are welcome. Please join us in person! November&#39\;s Coffee Talk will be led by Martha Hutzel\, Library Director\, Central Rappahannock Regional Library\, discussing Post-Colloquium Book Discussion: Embrace the Work\, Love Your Career: A Guided Workbook for Realizing Your Career Goals with Clarity\, Intention\, and Confidence. Networking is the best thing you can do for your own professional development! Share\, learn and grow from other professionals in the Fredericksburg area.
LOCATION:Jepson Alumni and Executive Center 1119 Hanover St\, Fredericksburg\, VA 22401 Street parking is available on Hanover Street
UID:e.492.13150
SEQUENCE:3
DTSTAMP:20260422T180341Z
URL:https://members.fredericksburgchamber.org/events/details/coffee-talk-umw-women-s-leadership-colloquium-13150
END:VEVENT

END:VCALENDAR
