BEGIN:VCALENDAR
VERSION:2.0
PRODID:-//ChamberMaster//Event Calendar 2.0//EN
METHOD:PUBLISH
X-PUBLISHED-TTL:P3D
REFRESH-INTERVAL:P3D
CALSCALE:GREGORIAN
BEGIN:VEVENT
DTSTART:20210501T233000Z
DTEND:20210502T033000Z
X-MICROSOFT-CDO-ALLDAYEVENT:FALSE
SUMMARY:Colt Ford - Live In Concert
DESCRIPTION:The Groove Music Hall & Rappahannock Electric Cooperative present...\n\n\n\nCOLT FORD\n\nSaturday\, May 1\, 2021\, 07:30PM\n\n\n\nTickets starting at $25.00!\n\n\n\nBUY TICKETS       https://bityl.co/4iIs
X-ALT-DESC;FMTTYPE=text/html:<span style="color:rgb(68\, 68\, 68)\; font-family:open sans\,helvetica neue\,helvetica\,arial\,sans-serif\; font-size:12.6px"><em>The Groove Music Hall &amp\; Rappahannock Electric Cooperative present...</em><br />\n<br />\n<span style="color:inherit\; font-family:inherit\; font-size:20px"><span style="color:inherit\; font-family:inherit\; font-size:inherit">COLT FORD</span></span><br />\nSaturday\, May 1\, 2021\, 07:30PM<br />\n<br />\nTickets starting at $25.00!<br />\n<br />\nBUY TICKETS &gt\; &gt\; &gt\;&nbsp\;</span><span style="color:rgb(68\, 68\, 68)\; font-family:arial\,helvetica\,sans-serif\; font-size:14px">https://bityl.co/4iIs</span>
LOCATION:The Groove Music Hall at Dominion Raceway
UID:e.492.11464
SEQUENCE:3
DTSTAMP:20260424T113518Z
URL:https://members.fredericksburgchamber.org/events/details/colt-ford-live-in-concert-11464
END:VEVENT

END:VCALENDAR
