BEGIN:VCALENDAR
VERSION:2.0
PRODID:-//ChamberMaster//Event Calendar 2.0//EN
METHOD:PUBLISH
X-PUBLISHED-TTL:P3D
REFRESH-INTERVAL:P3D
CALSCALE:GREGORIAN
BEGIN:VEVENT
DTSTART:20250910T203000Z
DTEND:20250910T223000Z
X-MICROSOFT-CDO-ALLDAYEVENT:FALSE
SUMMARY:Community Cash Mob - Ironclad Inn - Bourbon Tasting Room
DESCRIPTION:Join us for a Community Cash Mob! The Community Cash Mob is a group of Bank employees who visit a business on a selected day and time to "cash mob" the business. Which means\, spend money at your business. We give away $10 vouchers to use at the business during the cash mob. This is a fun way to support our local businesses.
X-ALT-DESC;FMTTYPE=text/html:Join us for a Community Cash Mob! The Community Cash Mob is a group of Bank employees who visit a business on a selected day and time to &ldquo\;cash mob&rdquo\; the business. Which means\, spend money at your business. We give away $10 vouchers to use at the business during the cash mob. This is a fun way to support our local businesses.
LOCATION:Ironclad Inn 1200 Princess Anne St\, Fredericksburg\, VA 22401-3736\, United States
UID:e.492.14987
SEQUENCE:3
DTSTAMP:20260421T211101Z
URL:https://members.fredericksburgchamber.org/events/details/community-cash-mob-ironclad-inn-bourbon-tasting-room-14987
END:VEVENT

END:VCALENDAR
