BEGIN:VCALENDAR
VERSION:2.0
PRODID:-//ChamberMaster//Event Calendar 2.0//EN
METHOD:PUBLISH
X-PUBLISHED-TTL:P3D
REFRESH-INTERVAL:P3D
CALSCALE:GREGORIAN
BEGIN:VEVENT
DTSTART:20230610T140000Z
DTEND:20230610T170000Z
X-MICROSOFT-CDO-ALLDAYEVENT:FALSE
SUMMARY:Community Connection Day
DESCRIPTION:Germanna and the Kingdom Family Worship Center invite you to our Community Connection Day on June 10\, 2023. Meet Germanna\, learn about in-demand careers and free college\, and how to get started working towards your dream career.\n\nPlease register to win prizes such as a free Germanna scholarship or Apple iPad. Come out and engage with our wonderful staff and faculty plus food\, ice cream\, and Germanna swag!
X-ALT-DESC;FMTTYPE=text/html:<p>Germanna and the Kingdom Family Worship Center invite you to our Community Connection Day on June 10\, 2023. Meet Germanna\, learn about in-demand careers and free college\, and how to get started working towards your dream career.</p>\n\n<p>Please register to win prizes such as a free Germanna scholarship or Apple iPad. Come out and engage with our wonderful staff and faculty plus food\, ice cream\, and Germanna swag!</p>\n
LOCATION:The Family Life Center 400 Bragg Hill Drive\, Fredericksburg\, Virginia 22401
UID:e.492.13563
SEQUENCE:3
DTSTAMP:20260422T053903Z
URL:https://members.fredericksburgchamber.org/events/details/community-connection-day-13563
END:VEVENT

END:VCALENDAR
