BEGIN:VCALENDAR
VERSION:2.0
PRODID:-//ChamberMaster//Event Calendar 2.0//EN
METHOD:PUBLISH
X-PUBLISHED-TTL:P3D
REFRESH-INTERVAL:P3D
CALSCALE:GREGORIAN
BEGIN:VEVENT
DTSTART:20240319T130000Z
DTEND:20240319T210000Z
X-MICROSOFT-CDO-ALLDAYEVENT:FALSE
SUMMARY:Community Connections Expo
DESCRIPTION:A one day event connecting those in need of assistance to a variety of local resources and services\, all in one place! Join our amazing group of nonprofits\, regional organizations\, and community minded businesses as part of this initiative to increase accessibility to the incredible programs currently available in our area. Direct services being provided include free haircuts\, free health screenings\, free clothes\, free food & more!
X-ALT-DESC;FMTTYPE=text/html:A one day event connecting those in need of assistance to a variety of local resources and services\, all in one place! Join our amazing group of nonprofits\, regional organizations\, and community minded businesses as part of this initiative to increase accessibility to the incredible programs currently available in our area. Direct services being provided include free haircuts\, free health screenings\, free clothes\, free food &amp\; more!
LOCATION:Fredericksburg Convention Center
UID:e.492.13890
SEQUENCE:3
DTSTAMP:20260422T035334Z
URL:https://members.fredericksburgchamber.org/events/details/community-connections-expo-13890
END:VEVENT

END:VCALENDAR
