BEGIN:VCALENDAR
VERSION:2.0
PRODID:-//ChamberMaster//Event Calendar 2.0//EN
METHOD:PUBLISH
X-PUBLISHED-TTL:P3D
REFRESH-INTERVAL:P3D
CALSCALE:GREGORIAN
BEGIN:VEVENT
DTSTART:20260119T230000Z
DTEND:20260120T010000Z
X-MICROSOFT-CDO-ALLDAYEVENT:FALSE
SUMMARY:Community Conversations – Civil Rights Then and Now
DESCRIPTION:Join the League of Women Voters of the Fredericksburg Area for a guided\, nonpartisan community dialogue honoring Dr. King's legacy by exploring what civil rights work looks like in practice today grounded in local context and facts.
X-ALT-DESC;FMTTYPE=text/html:Join the League of Women Voters of the Fredericksburg Area for a guided\, nonpartisan community dialogue honoring Dr. King&rsquo\;s legacy by exploring what civil rights work looks like in practice today&mdash\;grounded in local context and facts.
LOCATION:Curitiba Art Cafe\, 919 Caroline St Fredericksburg Virginia 22408
UID:e.492.15137
SEQUENCE:3
DTSTAMP:20260421T144908Z
URL:https://members.fredericksburgchamber.org/events/details/community-conversations-civil-rights-then-and-now-15137
END:VEVENT

END:VCALENDAR
