BEGIN:VCALENDAR
VERSION:2.0
PRODID:-//ChamberMaster//Event Calendar 2.0//EN
METHOD:PUBLISH
X-PUBLISHED-TTL:P3D
REFRESH-INTERVAL:P3D
CALSCALE:GREGORIAN
BEGIN:VEVENT
DTSTART:20240404T230000Z
DTEND:20240405T000000Z
X-MICROSOFT-CDO-ALLDAYEVENT:FALSE
SUMMARY:Germanna Community Conversations - Speaker: Craig Silverman\, Understanding and Navigating Our Chaotic Information Environment
DESCRIPTION:Craig Silverman\, a national reporter with ProPublica and expert in online disinformation\, explores how\n\ninformation is manipulated and how we can build resilience in ourselves and our community.
X-ALT-DESC;FMTTYPE=text/html:Craig Silverman\, a national reporter with ProPublica and expert in online disinformation\, explores how<br />\ninformation is manipulated and how we can build resilience in ourselves and our community.
LOCATION:Virtual via Zoom
UID:e.492.13836
SEQUENCE:3
DTSTAMP:20260422T054121Z
URL:https://members.fredericksburgchamber.org/events/details/community-conversations-craig-silverman-understanding-and-navigating-our-chaotic-information-environment-13836
END:VEVENT

END:VCALENDAR
