BEGIN:VCALENDAR
VERSION:2.0
PRODID:-//ChamberMaster//Event Calendar 2.0//EN
METHOD:PUBLISH
X-PUBLISHED-TTL:P3D
REFRESH-INTERVAL:P3D
CALSCALE:GREGORIAN
BEGIN:VEVENT
DTSTART:20230406T230000Z
DTEND:20230407T000000Z
X-MICROSOFT-CDO-ALLDAYEVENT:FALSE
SUMMARY:Germanna Community Conversations: Dr. Anna Malaika Tubbs - How Mothers Shape the World
DESCRIPTION:Join us in conversation with Dr. Anna Malaika Tubbs as we discuss her New York Times bestselling book\, "The Three Mothers: How the Mothers of Martin Luther King Jr.\, Malcolm X\, and James Baldwin Shaped a Nation" and how their stories impact mothers in America today.
X-ALT-DESC;FMTTYPE=text/html:<span style="background-color:transparent\; color:rgb(0\, 0\, 0)\; font-family:calibri\,sans-serif\; font-size:11pt">Join us in conversation with Dr. Anna Malaika Tubbs as we discuss her New York Times bestselling book\,</span><em> </em><span style="background-color:transparent\; color:rgb(0\, 0\, 0)\; font-family:calibri\,sans-serif\; font-size:11pt">&ldquo\;The Three Mothers: How the Mothers of Martin Luther King Jr.\, Malcolm X\, and James Baldwin Shaped a Nation&rdquo\;</span><em> </em><span style="background-color:transparent\; color:rgb(0\, 0\, 0)\; font-family:calibri\,sans-serif\; font-size:11pt">and how their stories impact mothers in America today.</span>
LOCATION:Online via Zoom
UID:e.492.13387
SEQUENCE:3
DTSTAMP:20260422T085230Z
URL:https://members.fredericksburgchamber.org/events/details/community-conversations-dr-anna-malaika-tubbs-how-mothers-shape-the-world-13387
END:VEVENT

END:VCALENDAR
