BEGIN:VCALENDAR
VERSION:2.0
PRODID:-//ChamberMaster//Event Calendar 2.0//EN
METHOD:PUBLISH
X-PUBLISHED-TTL:P3D
REFRESH-INTERVAL:P3D
CALSCALE:GREGORIAN
BEGIN:VEVENT
DTSTART:20230217T000000Z
DTEND:20230217T010000Z
X-MICROSOFT-CDO-ALLDAYEVENT:FALSE
SUMMARY:Germanna Community Conversations: Dr. Frank Harris III - Equity\, Student Services\, and Online Learning: What Works?
DESCRIPTION:Join us in conversation with Dr. Frank Harris\, the professor and co-director of the Community College Equity Assessment Lab at San Diego State University\, as we confront barriers impacting equity minded student services during the pandemic\, and where we are now.
X-ALT-DESC;FMTTYPE=text/html:<span style="background-color:transparent\; color:rgb(0\, 0\, 0)\; font-family:calibri\,sans-serif\; font-size:11pt">Join us in conversation with Dr. Frank Harris\, the professor and co-director of the Community College Equity Assessment Lab at San Diego State University\, as we confront barriers impacting equity minded student services during the pandemic\, and where we are now.</span>
LOCATION:Online via Zoom
UID:e.492.13382
SEQUENCE:3
DTSTAMP:20260422T115323Z
URL:https://members.fredericksburgchamber.org/events/details/community-conversations-dr-frank-harris-iii-equity-student-services-and-online-learning-what-works-13382
END:VEVENT

END:VCALENDAR
