BEGIN:VCALENDAR
VERSION:2.0
PRODID:-//ChamberMaster//Event Calendar 2.0//EN
METHOD:PUBLISH
X-PUBLISHED-TTL:P3D
REFRESH-INTERVAL:P3D
CALSCALE:GREGORIAN
BEGIN:VEVENT
DTSTART:20230224T000000Z
DTEND:20230224T010000Z
X-MICROSOFT-CDO-ALLDAYEVENT:FALSE
SUMMARY:Germanna Community Conversations: Dr. Gaila Sims - A Singular Community: African American History in Fredericksburg
DESCRIPTION:Join us in conversation with Dr. Gaila Sims\, curator of African American history and special projects at the Fredericksburg Area Museum\, as we highlight the influence that local African Americans had on the development of our shared Fredericksburg and Virginia community.
X-ALT-DESC;FMTTYPE=text/html:<span style="background-color:transparent\; color:rgb(0\, 0\, 0)\; font-family:calibri\,sans-serif\; font-size:11pt">Join us in conversation with Dr. Gaila Sims\, curator of African American history and special projects at the Fredericksburg Area Museum\, as we highlight the influence that local African Americans had on the development of our shared Fredericksburg and Virginia community.</span>
LOCATION:Online via Zoom
UID:e.492.13383
SEQUENCE:3
DTSTAMP:20260422T115731Z
URL:https://members.fredericksburgchamber.org/events/details/community-conversations-dr-gaila-sims-a-singular-community-african-american-history-in-fredericksburg-13383
END:VEVENT

END:VCALENDAR
