BEGIN:VCALENDAR
VERSION:2.0
PRODID:-//ChamberMaster//Event Calendar 2.0//EN
METHOD:PUBLISH
X-PUBLISHED-TTL:P3D
REFRESH-INTERVAL:P3D
CALSCALE:GREGORIAN
BEGIN:VEVENT
DTSTART:20230320T230000Z
DTEND:20230321T000000Z
X-MICROSOFT-CDO-ALLDAYEVENT:FALSE
SUMMARY:Germanna Community Conversations: Dr. Moogega Cooper - Diversity in S.T.E.A.M. From a Real-Life Guardian of the Galaxy
DESCRIPTION:Join us in conversation with Dr. Moogega Cooper\, planetary protection lead of the NASA 2020 Mars mission\, as she shares her love of science\, technology\, engineering\, arts\, and mathematics and what it's like to be responsible for keeping Mars safe from Earth's contaminants.
X-ALT-DESC;FMTTYPE=text/html:<span style="background-color:transparent\; color:rgb(0\, 0\, 0)\; font-family:calibri\,sans-serif\; font-size:11pt">Join us in conversation with Dr. Moogega Cooper\, planetary protection lead of the NASA 2020 Mars mission\, as she shares her love of science\, technology\, engineering\, arts\, and mathematics and what it&rsquo\;s like to be responsible for keeping Mars safe from Earth&rsquo\;s contaminants.</span>
LOCATION:Online via Zoom
UID:e.492.13386
SEQUENCE:3
DTSTAMP:20260422T103135Z
URL:https://members.fredericksburgchamber.org/events/details/community-conversations-dr-moogega-cooper-diversity-in-s-t-e-a-m-from-a-real-life-guardian-of-the-galaxy-13386
END:VEVENT

END:VCALENDAR
